BEGIN:VCALENDAR
VERSION:2.0
PRODID:-//Plone.org//NONSGML plone.app.event//EN
X-WR-TIMEZONE:US/Eastern
BEGIN:VEVENT
SUMMARY:Smart Money Kids Read
DTSTART;TZID=US/Eastern:20260425T100000
DTEND;TZID=US/Eastern:20260425T110000
DTSTAMP:20260422T111252Z
UID:e5463790dfb04cd1a9d4ea5a11e1462a@saas_stack_varnish:6080
CREATED:20260409T143720Z
LAST-MODIFIED:20260409T143731Z
URL:https://www.darcylibraryofbeulah.org/events/smart-money-kids-read
END:VEVENT
BEGIN:VTIMEZONE
TZID:US/Eastern
X-LIC-LOCATION:US/Eastern
BEGIN:DAYLIGHT
DTSTART:20260308T030000
TZNAME:EDT
TZOFFSETFROM:-0500
TZOFFSETTO:-0400
END:DAYLIGHT
END:VTIMEZONE
END:VCALENDAR
